BEGIN:VCALENDAR
VERSION:2.0
PRODID:-//Baylee Shots - ECPv6.15.14//NONSGML v1.0//EN
CALSCALE:GREGORIAN
METHOD:PUBLISH
X-WR-CALNAME:Baylee Shots
X-ORIGINAL-URL:https://bayleeshots.best
X-WR-CALDESC:Events for Baylee Shots
REFRESH-INTERVAL;VALUE=DURATION:PT1H
X-Robots-Tag:noindex
X-PUBLISHED-TTL:PT1H
BEGIN:VTIMEZONE
TZID:America/Vancouver
BEGIN:DAYLIGHT
TZOFFSETFROM:-0800
TZOFFSETTO:-0700
TZNAME:PDT
DTSTART:20240310T100000
END:DAYLIGHT
BEGIN:STANDARD
TZOFFSETFROM:-0700
TZOFFSETTO:-0800
TZNAME:PST
DTSTART:20241103T090000
END:STANDARD
BEGIN:DAYLIGHT
TZOFFSETFROM:-0800
TZOFFSETTO:-0700
TZNAME:PDT
DTSTART:20250309T100000
END:DAYLIGHT
BEGIN:STANDARD
TZOFFSETFROM:-0700
TZOFFSETTO:-0800
TZNAME:PST
DTSTART:20251102T090000
END:STANDARD
BEGIN:DAYLIGHT
TZOFFSETFROM:-0800
TZOFFSETTO:-0700
TZNAME:PDT
DTSTART:20260308T100000
END:DAYLIGHT
BEGIN:STANDARD
TZOFFSETFROM:-0700
TZOFFSETTO:-0800
TZNAME:PST
DTSTART:20261101T090000
END:STANDARD
END:VTIMEZONE
BEGIN:VEVENT
DTSTART;TZID=America/Vancouver:20250811T140000
DTEND;TZID=America/Vancouver:20250811T233000
DTSTAMP:20260421T131631
CREATED:20221126T163406Z
LAST-MODIFIED:20250811T011354Z
UID:6176-1754920800-1754955000@bayleeshots.best
SUMMARY:Fort Nelson
DESCRIPTION:Baylee Shots – A Mess of Gorgeous Chaos in Fort Nelson for the 1st time\n  \nOk! Ok! I know babes.. It’s a chaotic world out there\, so\, YES! More & More changes cuming! Now travelling to Fort Nelson and beyond!  Yep s far as Whitehorse Yukon. \nBabes\, you gotta know the difference between real and fake.. So\, I just want you to know.. I’m just as real as you!  I’m just riding the wave for innovated ways to weed out the time wasters and scammers.. Giggles – It truly does work on both sides of the fence! \nSo\, make sure to be a voyeur in my world Right Here to make sure I’m the gal for you.  Yes babes.. you’ll have to give it to me.. YOUR email that is.  Just like the review boards such as CAF Reviews (which I have been highly reviewed on) and PERB too! \nYep\, I’m pretty sure you have to be a member of those.. cause I do and did sign up with my email!  Giggles\, some of us gals have brains too!  Just saying \nThis is how we do it… \nUntil our paths collide – work and play safe in this chaotic world \nAlways gonna be A Mess of Gorgeous Chaos \nBaylee Shots \n  \nPS:  Make sure to give me your Name\, AGE\, and Location when sending me a text
URL:https://bayleeshots.best/event/fort-nelson/
CATEGORIES:Alberta,Whitecourt
ATTACH;FMTTYPE=image/jpeg:https://bayleeshots.best/wp-content/uploads/2022/06/MG_6328-scaled-e1663886400103.jpg
END:VEVENT
END:VCALENDAR