BEGIN:VCALENDAR
VERSION:2.0
PRODID:-//Baylee Shots - ECPv6.15.14//NONSGML v1.0//EN
CALSCALE:GREGORIAN
METHOD:PUBLISH
X-ORIGINAL-URL:https://bayleeshots.best
X-WR-CALDESC:Events for Baylee Shots
REFRESH-INTERVAL;VALUE=DURATION:PT1H
X-Robots-Tag:noindex
X-PUBLISHED-TTL:PT1H
BEGIN:VTIMEZONE
TZID:America/Edmonton
BEGIN:DAYLIGHT
TZOFFSETFROM:-0700
TZOFFSETTO:-0600
TZNAME:MDT
DTSTART:20240310T090000
END:DAYLIGHT
BEGIN:STANDARD
TZOFFSETFROM:-0600
TZOFFSETTO:-0700
TZNAME:MST
DTSTART:20241103T080000
END:STANDARD
BEGIN:DAYLIGHT
TZOFFSETFROM:-0700
TZOFFSETTO:-0600
TZNAME:MDT
DTSTART:20250309T090000
END:DAYLIGHT
BEGIN:STANDARD
TZOFFSETFROM:-0600
TZOFFSETTO:-0700
TZNAME:MST
DTSTART:20251102T080000
END:STANDARD
BEGIN:DAYLIGHT
TZOFFSETFROM:-0700
TZOFFSETTO:-0600
TZNAME:MDT
DTSTART:20260308T090000
END:DAYLIGHT
BEGIN:STANDARD
TZOFFSETFROM:-0600
TZOFFSETTO:-0700
TZNAME:MST
DTSTART:20261101T080000
END:STANDARD
END:VTIMEZONE
BEGIN:VEVENT
DTSTART;TZID=America/Edmonton:20251215T150000
DTEND;TZID=America/Edmonton:20251215T150000
DTSTAMP:20260421T165218
CREATED:20210321T170458Z
LAST-MODIFIED:20251208T203623Z
UID:2529-1765810800-1765810800@bayleeshots.best
SUMMARY:Smithers
DESCRIPTION:Collide with A Mess of Gorgeous Chaos – Baylee Shots is in SMITHERS\nGiggles – I want someone to look at me the way I look at cock & coffee with a ’Shot of Baylee’ – mmm yummy! #more MORE! MoreThanks for picking me up. BABES! You just gotta see it! It’s like no other! Just take the LEFT…. on Digital Street and you’ll be able to play with me dial style!\nBut if you’re that fella that wants his hands all over me\, Baylee Shots\, then make sure to feel me out right here And just remember babes.. I do ask you to be at least 30 years or older to make your Mess of Gorgeous Chaos.  \nCheck out my TERMS  to read all the details of Baylee Shots – A Mess of Gorgeous Chaos\nUntil our paths collide – work and play safe in this chaotic world
URL:https://bayleeshots.best/event/smithers/
CATEGORIES:British Columbia,Smithers
ATTACH;FMTTYPE=image/jpeg:https://bayleeshots.best/wp-content/uploads/2023/01/F5CB3C87-EBC5-48B8-9995-E99FBACA6CC0-scaled.jpeg
END:VEVENT
END:VCALENDAR