BEGIN:VCALENDAR
VERSION:2.0
PRODID:-//Baylee Shots - ECPv6.15.14//NONSGML v1.0//EN
CALSCALE:GREGORIAN
METHOD:PUBLISH
X-ORIGINAL-URL:https://bayleeshots.best
X-WR-CALDESC:Events for Baylee Shots
REFRESH-INTERVAL;VALUE=DURATION:PT1H
X-Robots-Tag:noindex
X-PUBLISHED-TTL:PT1H
BEGIN:VTIMEZONE
TZID:America/Vancouver
BEGIN:DAYLIGHT
TZOFFSETFROM:-0800
TZOFFSETTO:-0700
TZNAME:PDT
DTSTART:20230312T100000
END:DAYLIGHT
BEGIN:STANDARD
TZOFFSETFROM:-0700
TZOFFSETTO:-0800
TZNAME:PST
DTSTART:20231105T090000
END:STANDARD
BEGIN:DAYLIGHT
TZOFFSETFROM:-0800
TZOFFSETTO:-0700
TZNAME:PDT
DTSTART:20240310T100000
END:DAYLIGHT
BEGIN:STANDARD
TZOFFSETFROM:-0700
TZOFFSETTO:-0800
TZNAME:PST
DTSTART:20241103T090000
END:STANDARD
BEGIN:DAYLIGHT
TZOFFSETFROM:-0800
TZOFFSETTO:-0700
TZNAME:PDT
DTSTART:20250309T100000
END:DAYLIGHT
BEGIN:STANDARD
TZOFFSETFROM:-0700
TZOFFSETTO:-0800
TZNAME:PST
DTSTART:20251102T090000
END:STANDARD
BEGIN:DAYLIGHT
TZOFFSETFROM:-0800
TZOFFSETTO:-0700
TZNAME:PDT
DTSTART:20260308T100000
END:DAYLIGHT
BEGIN:STANDARD
TZOFFSETFROM:-0700
TZOFFSETTO:-0800
TZNAME:PST
DTSTART:20261101T090000
END:STANDARD
BEGIN:DAYLIGHT
TZOFFSETFROM:-0800
TZOFFSETTO:-0700
TZNAME:PDT
DTSTART:20270314T100000
END:DAYLIGHT
BEGIN:STANDARD
TZOFFSETFROM:-0700
TZOFFSETTO:-0800
TZNAME:PST
DTSTART:20271107T090000
END:STANDARD
END:VTIMEZONE
BEGIN:VTIMEZONE
TZID:America/Edmonton
BEGIN:DAYLIGHT
TZOFFSETFROM:-0700
TZOFFSETTO:-0600
TZNAME:MDT
DTSTART:20220313T090000
END:DAYLIGHT
BEGIN:STANDARD
TZOFFSETFROM:-0600
TZOFFSETTO:-0700
TZNAME:MST
DTSTART:20221106T080000
END:STANDARD
BEGIN:DAYLIGHT
TZOFFSETFROM:-0700
TZOFFSETTO:-0600
TZNAME:MDT
DTSTART:20230312T090000
END:DAYLIGHT
BEGIN:STANDARD
TZOFFSETFROM:-0600
TZOFFSETTO:-0700
TZNAME:MST
DTSTART:20231105T080000
END:STANDARD
BEGIN:DAYLIGHT
TZOFFSETFROM:-0700
TZOFFSETTO:-0600
TZNAME:MDT
DTSTART:20240310T090000
END:DAYLIGHT
BEGIN:STANDARD
TZOFFSETFROM:-0600
TZOFFSETTO:-0700
TZNAME:MST
DTSTART:20241103T080000
END:STANDARD
END:VTIMEZONE
BEGIN:VEVENT
DTSTART;TZID=America/Vancouver:20260226T150000
DTEND;TZID=America/Vancouver:20260226T150000
DTSTAMP:20260421T110038
CREATED:20220625T015109Z
LAST-MODIFIED:20260223T232257Z
UID:4973-1772118000-1772118000@bayleeshots.best
SUMMARY:Lloydminster
DESCRIPTION:Morning Cock & Coffee with Baylee Shots in Lloydminster\nBabes! BABES! Just cause we live in a fantasy world\, a world of illusion doesn’t mean our encounter is that way!  The great task in life is to find reality. Reality with A Mess of Gorgeous Chaos – Baylee Shots. \nFor that awkward moment.. just saying how this world is so chaotic.. I decided to change it up.  So\, I’ll splash it all out here..  You gotta be 30 years or older to make this encounter work.. and then\, due to all the scammers on both sides.. you’ll have to trust my process and give a 25% deposit for first time cumers! \nUntil our paths collide – work and play safe in this chaotic world \n 
URL:https://bayleeshots.best/event/lloydminster-2/
CATEGORIES:Alberta,Lloydminster,Saskatchewan
ATTACH;FMTTYPE=image/jpeg:https://bayleeshots.best/wp-content/uploads/2022/06/5-scaled-1.jpg
END:VEVENT
BEGIN:VEVENT
DTSTART;TZID=America/Vancouver:20240101T080000
DTEND;TZID=America/Vancouver:20240101T230000
DTSTAMP:20260421T110038
CREATED:20231231T030435Z
LAST-MODIFIED:20231231T030436Z
UID:8461-1704096000-1704150000@bayleeshots.best
SUMMARY:Happy New Year Babes!
DESCRIPTION:Happy New Year Babes!\nI just gotta say thank you for all the kindness over the past year!  Kindness is sexy!  I can’t believe we’ll be starting another year!  So excited to do our thing a few more times in 2024! \nJust remember babes\, if you’re new to my world\, I do require a 25% deposit!  I know babes.. no sense of whining over it!  Pretty much everything is by appointment.  Think about it\, the doctors\, the dentist\, even getting your vehicle serviced!  So\, I’m just the enjoyable LUBE job that also requires an appointment! \nIf you’re that gent that can’t really decide between her or me.. you can always get it digitally RIGHT HERE.  It’s kinda like ONLYFANS or FANSLY\, but ‘Baylee Shots’ Style \nSo… I’ll see you soon babes! \nUntil our path collides – Work and play safe in this chaotic world \nBaylee Shots – A Mess of Gorgeous Chaos
URL:https://bayleeshots.best/event/happy-new-year-babes/
CATEGORIES:Alberta,British Columbia,In my Princess World,Saskatchewan
ATTACH;FMTTYPE=image/jpeg:https://bayleeshots.best/wp-content/uploads/2023/01/1366D1E3-35BF-4C73-BB57-FD3E2F88584F-scaled.jpeg
END:VEVENT
BEGIN:VEVENT
DTSTART;TZID=America/Edmonton:20231116T060000
DTEND;TZID=America/Edmonton:20231116T233000
DTSTAMP:20260421T110038
CREATED:20211108T164921Z
LAST-MODIFIED:20231115T184256Z
UID:2705-1700114400-1700177400@bayleeshots.best
SUMMARY:Chilliwack & Hope
DESCRIPTION:Last day in Chilliwack & Hope! Get with this Mess of Gorgeous Chaos – Baylee Shots \n Giggles – The journey is never ending. There’s always gonna be growth\, improvement\, adversity; you just gotta take it all in and do what’s right\, continue to grow\, continue to live in the moment while being A Mess of Gorgeous Chaos   \nRemember babes.. I do require a 25% deposit for first time cummers  Cant wait to have your hands all over me \nAlways gonna be that  \nMess of Gorgeous Chaos  \nBaylee Shots \n 
URL:https://bayleeshots.best/event/chilliwack-hope-2/
CATEGORIES:British Columbia,Chilliwack,Saskatchewan
ATTACH;FMTTYPE=image/jpeg:https://bayleeshots.best/wp-content/uploads/2022/10/IMG_3625-scaled.jpg
END:VEVENT
END:VCALENDAR