BEGIN:VCALENDAR
VERSION:2.0
PRODID:-//Baylee Shots - ECPv6.15.14//NONSGML v1.0//EN
CALSCALE:GREGORIAN
METHOD:PUBLISH
X-ORIGINAL-URL:https://bayleeshots.best
X-WR-CALDESC:Events for Baylee Shots
REFRESH-INTERVAL;VALUE=DURATION:PT1H
X-Robots-Tag:noindex
X-PUBLISHED-TTL:PT1H
BEGIN:VTIMEZONE
TZID:America/Vancouver
BEGIN:DAYLIGHT
TZOFFSETFROM:-0800
TZOFFSETTO:-0700
TZNAME:PDT
DTSTART:20240310T100000
END:DAYLIGHT
BEGIN:STANDARD
TZOFFSETFROM:-0700
TZOFFSETTO:-0800
TZNAME:PST
DTSTART:20241103T090000
END:STANDARD
BEGIN:DAYLIGHT
TZOFFSETFROM:-0800
TZOFFSETTO:-0700
TZNAME:PDT
DTSTART:20250309T100000
END:DAYLIGHT
BEGIN:STANDARD
TZOFFSETFROM:-0700
TZOFFSETTO:-0800
TZNAME:PST
DTSTART:20251102T090000
END:STANDARD
BEGIN:DAYLIGHT
TZOFFSETFROM:-0800
TZOFFSETTO:-0700
TZNAME:PDT
DTSTART:20260308T100000
END:DAYLIGHT
BEGIN:STANDARD
TZOFFSETFROM:-0700
TZOFFSETTO:-0800
TZNAME:PST
DTSTART:20261101T090000
END:STANDARD
BEGIN:DAYLIGHT
TZOFFSETFROM:-0800
TZOFFSETTO:-0700
TZNAME:PDT
DTSTART:20270314T100000
END:DAYLIGHT
BEGIN:STANDARD
TZOFFSETFROM:-0700
TZOFFSETTO:-0800
TZNAME:PST
DTSTART:20271107T090000
END:STANDARD
END:VTIMEZONE
BEGIN:VTIMEZONE
TZID:America/Edmonton
BEGIN:DAYLIGHT
TZOFFSETFROM:-0700
TZOFFSETTO:-0600
TZNAME:MDT
DTSTART:20240310T090000
END:DAYLIGHT
BEGIN:STANDARD
TZOFFSETFROM:-0600
TZOFFSETTO:-0700
TZNAME:MST
DTSTART:20241103T080000
END:STANDARD
BEGIN:DAYLIGHT
TZOFFSETFROM:-0700
TZOFFSETTO:-0600
TZNAME:MDT
DTSTART:20250309T090000
END:DAYLIGHT
BEGIN:STANDARD
TZOFFSETFROM:-0600
TZOFFSETTO:-0700
TZNAME:MST
DTSTART:20251102T080000
END:STANDARD
BEGIN:DAYLIGHT
TZOFFSETFROM:-0700
TZOFFSETTO:-0600
TZNAME:MDT
DTSTART:20260308T090000
END:DAYLIGHT
BEGIN:STANDARD
TZOFFSETFROM:-0600
TZOFFSETTO:-0700
TZNAME:MST
DTSTART:20261101T080000
END:STANDARD
END:VTIMEZONE
BEGIN:VEVENT
DTSTART;TZID=America/Vancouver:20260329T150000
DTEND;TZID=America/Vancouver:20260329T150000
DTSTAMP:20260421T120230
CREATED:20221005T150401Z
LAST-MODIFIED:20260324T162837Z
UID:5504-1774796400-1774796400@bayleeshots.best
SUMMARY:Prince Rupert
DESCRIPTION:Morning Cock And Coffee at the Secert Spot in Prince Rupert?\nMorning Cock and Coffee with Baylee Shots is always a great way to start your morning!  Giggles.. Just gotta say BABES\, your dreams are as big as your demons.. make sure you’re feeding the right ones!  Hippie Luver Baylee Shots is coming your way. \nSpeaking of which\, make sure to check out my TERMS and see what’s new in my world.. things like a 25% deposit is required  for first time cumers.  Check it out babes \nTo fresh your memory.. here’s a direct link to OOGLE me again to make sure I’m the gal for you. From there you’ll be able to see my menu too.. \nUntil our paths collide – work and play safe in this chaotic world.  Always\, A Mess of Gorgeous Chaos – Baylee Shots
URL:https://bayleeshots.best/event/prince-rupert-2/
CATEGORIES:British Columbia,Prince Rupert
ATTACH;FMTTYPE=image/jpeg:https://bayleeshots.best/wp-content/uploads/2023/01/E0B29EA2-2304-4FDF-81B5-447EF6D98D61-scaled.jpeg
END:VEVENT
BEGIN:VEVENT
DTSTART;TZID=America/Edmonton:20251214T150000
DTEND;TZID=America/Edmonton:20251214T150000
DTSTAMP:20260421T120230
CREATED:20210803T162932Z
LAST-MODIFIED:20251208T203552Z
UID:2674-1765724400-1765724400@bayleeshots.best
SUMMARY:Prince Rupert
DESCRIPTION:Morning Cock And Coffee at the Secert Spot in Prince Rupert?\nMorning Cock and Coffee with Baylee Shots is always a great way to start your morning!  Giggles.. Just gotta say BABES\, your dreams are as big as your demons.. make sure you’re feeding the right ones!  Hippie Luver Baylee Shots is coming your way.   \nSpeaking of which\, make sure to check out my TERMS and see what’s new in my world.. things like a 25% deposit is required  for first time cumers.  Check it out babes \nTo fresh your memory.. here’s a direct link to OOGLE me again to make sure I’m the gal for you. From there you’ll be able to see my menu too..  \nUntil our paths collide – work and play safe in this chaotic world.  Always\, A Mess of Gorgeous Chaos – Baylee Shots
URL:https://bayleeshots.best/event/prince-rupert/
CATEGORIES:British Columbia,Prince Rupert
ATTACH;FMTTYPE=image/jpeg:https://bayleeshots.best/wp-content/uploads/2023/01/1366D1E3-35BF-4C73-BB57-FD3E2F88584F-scaled.jpeg
END:VEVENT
BEGIN:VEVENT
DTSTART;TZID=America/Vancouver:20250604T090000
DTEND;TZID=America/Vancouver:20250604T233000
DTSTAMP:20260421T120230
CREATED:20230121T232404Z
LAST-MODIFIED:20250603T224258Z
UID:6654-1749027600-1749079800@bayleeshots.best
SUMMARY:Out to You on Yellowhead Highway E/BC - 16 E
DESCRIPTION:Somewhere along Yellowhead HWY E/BC – 16 E\nThis Mess of Gorgeous Chaos will meet you there for a quick road side assistant call along Yellowhead Highway – giggles!  That’s right babes!! I’ll be travelling from Prince George to Smithers stopping in Vanderhoof\, Fort Fraser\, Fraser Lake\, Burns Lake\, & Houston for road side assistant \nLike your Job babes.. we all have rules so here’s mine… \nIf you want to get with this Mess of Gorgeous Chaos – Baylee Shots for road side assistant\, you’ll have to do a more detailed screening.. Just making sure you won’t be that guy.. you know who’s the closest killer.. just kidding\, but seriously babes\, I can work with pretty much anything as long as there’s the honesty on your part.. you picking up what I’m laying down? \nthere’s so much to discuss it’s really here for you to push my digits \nUntil our paths collide – work and play safe in this chaotic world
URL:https://bayleeshots.best/event/out-to-you-on-yellowhead-hwy-e-bc-16-e/
CATEGORIES:British Columbia,Prince George,Prince Rupert,Smithers,Terrace
ATTACH;FMTTYPE=image/jpeg:https://bayleeshots.best/wp-content/uploads/2023/01/EF817076-250B-4F60-AEEC-E2AEC7C49EC9-scaled.jpeg
END:VEVENT
END:VCALENDAR