BEGIN:VCALENDAR
VERSION:2.0
PRODID:-//Baylee Shots - ECPv6.15.14//NONSGML v1.0//EN
CALSCALE:GREGORIAN
METHOD:PUBLISH
X-WR-CALNAME:Baylee Shots
X-ORIGINAL-URL:https://bayleeshots.best
X-WR-CALDESC:Events for Baylee Shots
REFRESH-INTERVAL;VALUE=DURATION:PT1H
X-Robots-Tag:noindex
X-PUBLISHED-TTL:PT1H
BEGIN:VTIMEZONE
TZID:America/Edmonton
BEGIN:DAYLIGHT
TZOFFSETFROM:-0700
TZOFFSETTO:-0600
TZNAME:MDT
DTSTART:20220313T090000
END:DAYLIGHT
BEGIN:STANDARD
TZOFFSETFROM:-0600
TZOFFSETTO:-0700
TZNAME:MST
DTSTART:20221106T080000
END:STANDARD
BEGIN:DAYLIGHT
TZOFFSETFROM:-0700
TZOFFSETTO:-0600
TZNAME:MDT
DTSTART:20230312T090000
END:DAYLIGHT
BEGIN:STANDARD
TZOFFSETFROM:-0600
TZOFFSETTO:-0700
TZNAME:MST
DTSTART:20231105T080000
END:STANDARD
BEGIN:DAYLIGHT
TZOFFSETFROM:-0700
TZOFFSETTO:-0600
TZNAME:MDT
DTSTART:20240310T090000
END:DAYLIGHT
BEGIN:STANDARD
TZOFFSETFROM:-0600
TZOFFSETTO:-0700
TZNAME:MST
DTSTART:20241103T080000
END:STANDARD
BEGIN:DAYLIGHT
TZOFFSETFROM:-0700
TZOFFSETTO:-0600
TZNAME:MDT
DTSTART:20250309T090000
END:DAYLIGHT
BEGIN:STANDARD
TZOFFSETFROM:-0600
TZOFFSETTO:-0700
TZNAME:MST
DTSTART:20251102T080000
END:STANDARD
BEGIN:DAYLIGHT
TZOFFSETFROM:-0700
TZOFFSETTO:-0600
TZNAME:MDT
DTSTART:20260308T090000
END:DAYLIGHT
BEGIN:STANDARD
TZOFFSETFROM:-0600
TZOFFSETTO:-0700
TZNAME:MST
DTSTART:20261101T080000
END:STANDARD
BEGIN:DAYLIGHT
TZOFFSETFROM:-0700
TZOFFSETTO:-0600
TZNAME:MDT
DTSTART:20270314T090000
END:DAYLIGHT
BEGIN:STANDARD
TZOFFSETFROM:-0600
TZOFFSETTO:-0700
TZNAME:MST
DTSTART:20271107T080000
END:STANDARD
END:VTIMEZONE
BEGIN:VTIMEZONE
TZID:America/Vancouver
BEGIN:DAYLIGHT
TZOFFSETFROM:-0800
TZOFFSETTO:-0700
TZNAME:PDT
DTSTART:20240310T100000
END:DAYLIGHT
BEGIN:STANDARD
TZOFFSETFROM:-0700
TZOFFSETTO:-0800
TZNAME:PST
DTSTART:20241103T090000
END:STANDARD
BEGIN:DAYLIGHT
TZOFFSETFROM:-0800
TZOFFSETTO:-0700
TZNAME:PDT
DTSTART:20250309T100000
END:DAYLIGHT
BEGIN:STANDARD
TZOFFSETFROM:-0700
TZOFFSETTO:-0800
TZNAME:PST
DTSTART:20251102T090000
END:STANDARD
BEGIN:DAYLIGHT
TZOFFSETFROM:-0800
TZOFFSETTO:-0700
TZNAME:PDT
DTSTART:20260308T100000
END:DAYLIGHT
BEGIN:STANDARD
TZOFFSETFROM:-0700
TZOFFSETTO:-0800
TZNAME:PST
DTSTART:20261101T090000
END:STANDARD
END:VTIMEZONE
BEGIN:VEVENT
DTSTART;TZID=America/Edmonton:20260326T150000
DTEND;TZID=America/Edmonton:20260326T150000
DTSTAMP:20260421T120127
CREATED:20210803T012926Z
LAST-MODIFIED:20260324T162310Z
UID:2667-1774537200-1774537200@bayleeshots.best
SUMMARY:Prince George
DESCRIPTION:Baylee Shots in Prince George\nGiggles – I refuse to apologize for being a bitch..cause no one has apologized to me for treating me like shit and bringing the bitch out in me… Just being real in this fake world\nBabes.. it’s about time your get up to speed in this ever changing world.  I gotta say\, a 25% deposit is required for first time cumers!  I know babes.. but if you do your history right\, you’ll find the good gals including me!\nUntil our paths collide – work and play safe in this chaotic world
URL:https://bayleeshots.best/event/prince-george-5/
CATEGORIES:British Columbia,Prince George
ATTACH;FMTTYPE=image/jpeg:https://bayleeshots.best/wp-content/uploads/2023/01/063DE398-745C-4AC1-9EA6-B4586D32B91E-scaled.jpeg
END:VEVENT
BEGIN:VEVENT
DTSTART;TZID=America/Vancouver:20251216T150000
DTEND;TZID=America/Vancouver:20251216T150000
DTSTAMP:20260421T120127
CREATED:20220725T152021Z
LAST-MODIFIED:20251208T203654Z
UID:5138-1765897200-1765897200@bayleeshots.best
SUMMARY:Prince George
DESCRIPTION:A Mess of Gorgeous Chaos is in Prince George!\nI know babes.. I’m all over the place!  It’s just that chaotic out there with the scammers\, I choose to take my regular GENUINE GENTS!  And they be here there and everywhere!  I just gotta thank you for your amazing kindness in this chaotic world. \nSo.. with saying that\, all first time cumers have to pay a 25% deposit.  I typed it all up right here in the TERMS.  Click it babes!  I know babes.. but this is how it all came about! Scammers and flakes.. and some gals fucked it up! \nJust saying\, unclog your own sink before trying to plug mine! Giggles \nOMG!  I finally got it all working right!  You know this site.  Yep I too have onlyfans or fansly even a little pornhub!  giggles\, but Baylee Style!  Just can’t figure it out… I can get approved for stripe\, but not the sites listed above! Who KNEW! \nSuck you soon babes! \nAlways gonna be your \nMess of Gorgeous Chaos – Baylee Shots
URL:https://bayleeshots.best/event/prince-george-4/
CATEGORIES:British Columbia,Prince George
ATTACH;FMTTYPE=image/jpeg:https://bayleeshots.best/wp-content/uploads/2023/01/04476210-2137-4319-8D78-518875F7BD16.jpeg
END:VEVENT
BEGIN:VEVENT
DTSTART;TZID=America/Vancouver:20250604T090000
DTEND;TZID=America/Vancouver:20250604T233000
DTSTAMP:20260421T120127
CREATED:20230121T232404Z
LAST-MODIFIED:20250603T224258Z
UID:6654-1749027600-1749079800@bayleeshots.best
SUMMARY:Out to You on Yellowhead Highway E/BC - 16 E
DESCRIPTION:Somewhere along Yellowhead HWY E/BC – 16 E\nThis Mess of Gorgeous Chaos will meet you there for a quick road side assistant call along Yellowhead Highway – giggles!  That’s right babes!! I’ll be travelling from Prince George to Smithers stopping in Vanderhoof\, Fort Fraser\, Fraser Lake\, Burns Lake\, & Houston for road side assistant \nLike your Job babes.. we all have rules so here’s mine… \nIf you want to get with this Mess of Gorgeous Chaos – Baylee Shots for road side assistant\, you’ll have to do a more detailed screening.. Just making sure you won’t be that guy.. you know who’s the closest killer.. just kidding\, but seriously babes\, I can work with pretty much anything as long as there’s the honesty on your part.. you picking up what I’m laying down? \nthere’s so much to discuss it’s really here for you to push my digits \nUntil our paths collide – work and play safe in this chaotic world
URL:https://bayleeshots.best/event/out-to-you-on-yellowhead-hwy-e-bc-16-e/
CATEGORIES:British Columbia,Prince George,Prince Rupert,Smithers,Terrace
ATTACH;FMTTYPE=image/jpeg:https://bayleeshots.best/wp-content/uploads/2023/01/EF817076-250B-4F60-AEEC-E2AEC7C49EC9-scaled.jpeg
END:VEVENT
BEGIN:VEVENT
DTSTART;TZID=America/Edmonton:20231219T150000
DTEND;TZID=America/Edmonton:20231219T233000
DTSTAMP:20260421T120127
CREATED:20220225T160446Z
LAST-MODIFIED:20231217T161811Z
UID:3084-1702998000-1703028600@bayleeshots.best
SUMMARY:Prince George
DESCRIPTION:A Mess of Gorgeous Chaos is in Prince George for one night!\nGiggles – I like to mix the street look with classy\, sassy & sexy. I call it ‘A Mess of Gorgeous Chaos – Baylee Shots’ style.    Just saying Babes.. Getting with A Mess of Gorgeous Chaos is that easy – Just thinking how chaotic the world is.. and the crazies hippie luvers out there.. \nSo advance scheduling is happening with a 25% deposit paid for all first time comers.  I know babes\, heard it so many times about being scammed!  giggles – well\, that’s on you for not doing your history on your choices!   \n  \nSending lots of kisses to the genuine gents that make their own mess of gorgeous chaos.  Until our paths collide – work and play safe in this chaotic world.. Always\, A Mess of Gorgeous Chaos – Baylee Shots
URL:https://bayleeshots.best/event/prince-george-2/
CATEGORIES:British Columbia,Prince George
ATTACH;FMTTYPE=image/jpeg:https://bayleeshots.best/wp-content/uploads/2022/06/MG_6309-scaled.jpg
END:VEVENT
END:VCALENDAR