BEGIN:VCALENDAR
VERSION:2.0
PRODID:-//Baylee Shots - ECPv6.15.14//NONSGML v1.0//EN
CALSCALE:GREGORIAN
METHOD:PUBLISH
X-WR-CALNAME:Baylee Shots
X-ORIGINAL-URL:https://bayleeshots.best
X-WR-CALDESC:Events for Baylee Shots
REFRESH-INTERVAL;VALUE=DURATION:PT1H
X-Robots-Tag:noindex
X-PUBLISHED-TTL:PT1H
BEGIN:VTIMEZONE
TZID:America/Vancouver
BEGIN:DAYLIGHT
TZOFFSETFROM:-0800
TZOFFSETTO:-0700
TZNAME:PDT
DTSTART:20250309T100000
END:DAYLIGHT
BEGIN:STANDARD
TZOFFSETFROM:-0700
TZOFFSETTO:-0800
TZNAME:PST
DTSTART:20251102T090000
END:STANDARD
BEGIN:DAYLIGHT
TZOFFSETFROM:-0800
TZOFFSETTO:-0700
TZNAME:PDT
DTSTART:20260308T100000
END:DAYLIGHT
BEGIN:STANDARD
TZOFFSETFROM:-0700
TZOFFSETTO:-0800
TZNAME:PST
DTSTART:20261101T090000
END:STANDARD
BEGIN:DAYLIGHT
TZOFFSETFROM:-0800
TZOFFSETTO:-0700
TZNAME:PDT
DTSTART:20270314T100000
END:DAYLIGHT
BEGIN:STANDARD
TZOFFSETFROM:-0700
TZOFFSETTO:-0800
TZNAME:PST
DTSTART:20271107T090000
END:STANDARD
END:VTIMEZONE
BEGIN:VEVENT
DTSTART;TZID=America/Vancouver:20260226T150000
DTEND;TZID=America/Vancouver:20260226T150000
DTSTAMP:20260421T102928
CREATED:20220625T015109Z
LAST-MODIFIED:20260223T232257Z
UID:4973-1772118000-1772118000@bayleeshots.best
SUMMARY:Lloydminster
DESCRIPTION:Morning Cock & Coffee with Baylee Shots in Lloydminster\nBabes! BABES! Just cause we live in a fantasy world\, a world of illusion doesn’t mean our encounter is that way!  The great task in life is to find reality. Reality with A Mess of Gorgeous Chaos – Baylee Shots. \nFor that awkward moment.. just saying how this world is so chaotic.. I decided to change it up.  So\, I’ll splash it all out here..  You gotta be 30 years or older to make this encounter work.. and then\, due to all the scammers on both sides.. you’ll have to trust my process and give a 25% deposit for first time cumers! \nUntil our paths collide – work and play safe in this chaotic world \n 
URL:https://bayleeshots.best/event/lloydminster-2/
CATEGORIES:Alberta,Lloydminster,Saskatchewan
ATTACH;FMTTYPE=image/jpeg:https://bayleeshots.best/wp-content/uploads/2022/06/5-scaled-1.jpg
END:VEVENT
END:VCALENDAR