BEGIN:VCALENDAR
VERSION:2.0
PRODID:-//Baylee Shots - ECPv6.15.14//NONSGML v1.0//EN
CALSCALE:GREGORIAN
METHOD:PUBLISH
X-WR-CALNAME:Baylee Shots
X-ORIGINAL-URL:https://bayleeshots.best
X-WR-CALDESC:Events for Baylee Shots
REFRESH-INTERVAL;VALUE=DURATION:PT1H
X-Robots-Tag:noindex
X-PUBLISHED-TTL:PT1H
BEGIN:VTIMEZONE
TZID:America/Vancouver
BEGIN:DAYLIGHT
TZOFFSETFROM:-0800
TZOFFSETTO:-0700
TZNAME:PDT
DTSTART:20240310T100000
END:DAYLIGHT
BEGIN:STANDARD
TZOFFSETFROM:-0700
TZOFFSETTO:-0800
TZNAME:PST
DTSTART:20241103T090000
END:STANDARD
BEGIN:DAYLIGHT
TZOFFSETFROM:-0800
TZOFFSETTO:-0700
TZNAME:PDT
DTSTART:20250309T100000
END:DAYLIGHT
BEGIN:STANDARD
TZOFFSETFROM:-0700
TZOFFSETTO:-0800
TZNAME:PST
DTSTART:20251102T090000
END:STANDARD
BEGIN:DAYLIGHT
TZOFFSETFROM:-0800
TZOFFSETTO:-0700
TZNAME:PDT
DTSTART:20260308T100000
END:DAYLIGHT
BEGIN:STANDARD
TZOFFSETFROM:-0700
TZOFFSETTO:-0800
TZNAME:PST
DTSTART:20261101T090000
END:STANDARD
END:VTIMEZONE
BEGIN:VEVENT
DTSTART;TZID=America/Vancouver:20251126T140000
DTEND;TZID=America/Vancouver:20251130T233000
DTSTAMP:20260421T165901
CREATED:20230630T145918Z
LAST-MODIFIED:20251126T135903Z
UID:7015-1764165600-1764545400@bayleeshots.best
SUMMARY:Peace River Region
DESCRIPTION:Baylee Shots – A Mess of Gorgeous Chaos is in the Peace River Region\n  \nHey babes.. I know right!  Just saying that it’s easier for me to come to you in this area.  Outcall to towns\, such as \nDawson Creek\, Chetwynd\, Fort St John\, Peace River\, Spirit River\, Grande Prairie \nMake sure to be a voyeur in my world right here  to get all the juicy details needed to get with this Mess of Gorgeous Chaos.  Ohhh and babes.. just saying a 25% deposit is required for first time Cumers. I know you get it\, just like me! \nMaybe you Wanna Know what I’m all about.. click it RIGHT HERE to see Digital Street!  Its kinda like OnlyFans or Fansly but Baylee Style \nAlways gonna be your mess of Gorgeous Chaos \nBaylee Shots
URL:https://bayleeshots.best/event/peace-river-region/
CATEGORIES:British Columbia,Chetwynd,Dawson Creek,Fort St John,Grande Prairie,Peace River
ATTACH;FMTTYPE=image/jpeg:https://bayleeshots.best/wp-content/uploads/2020/12/4-scaled.jpg
END:VEVENT
BEGIN:VEVENT
DTSTART;TZID=America/Vancouver:20251127T150000
DTEND;TZID=America/Vancouver:20251127T233000
DTSTAMP:20260421T165901
CREATED:20230121T223259Z
LAST-MODIFIED:20251126T141501Z
UID:6642-1764255600-1764286200@bayleeshots.best
SUMMARY:Fort St John
DESCRIPTION:Fort St John is getting with Baylee Shots – A Mess of Gorgeous Chaos\nI know babes.. lots of scammers out there!  I get it!  But here’s the thing\, it works on both sides of the fence!  Some of you must be welders with all the whines I hear cumins from you about being scammed.. well babes\, that’s on you!  just saying – giggles \nWe just don’t have time for games\, so know your gal! \nFirst\, I do require a 25% deposit for first time cummers.  This is paid by email transfer to my business account so I can be taxed just like you!  I don’t take prepay visa or apple pay.  Let alone ask for you to donate to my wish list.  I don’t even send your number to another scammer to see if you’ll pay them lol. \nSo\, lets just get over it babes.  I’m real just like you!  You can always take it Digital Style RIGHT HERE.  It’s kinda like ONLYFANS or FANSLY but ‘Baylee Shots’ style.  That’s right\, looks like I can be approved for a STRIPE account but not ONLYFANS…Can’t figure that one out!  Giggles \nuntil our paths collide – work and play safe in this chaotic world \nAlways gonna be A Mess of Gorgeous Chaos \nBaylee Shots \n 
URL:https://bayleeshots.best/event/fort-st-john-5/
CATEGORIES:British Columbia,Fort St John
ATTACH;FMTTYPE=image/jpeg:https://bayleeshots.best/wp-content/uploads/2022/06/5-scaled-1.jpg
END:VEVENT
END:VCALENDAR