BEGIN:VCALENDAR
VERSION:2.0
PRODID:-//Baylee Shots - ECPv6.15.14//NONSGML v1.0//EN
CALSCALE:GREGORIAN
METHOD:PUBLISH
X-ORIGINAL-URL:https://bayleeshots.best
X-WR-CALDESC:Events for Baylee Shots
REFRESH-INTERVAL;VALUE=DURATION:PT1H
X-Robots-Tag:noindex
X-PUBLISHED-TTL:PT1H
BEGIN:VTIMEZONE
TZID:America/Vancouver
BEGIN:DAYLIGHT
TZOFFSETFROM:-0800
TZOFFSETTO:-0700
TZNAME:PDT
DTSTART:20220313T100000
END:DAYLIGHT
BEGIN:STANDARD
TZOFFSETFROM:-0700
TZOFFSETTO:-0800
TZNAME:PST
DTSTART:20221106T090000
END:STANDARD
BEGIN:DAYLIGHT
TZOFFSETFROM:-0800
TZOFFSETTO:-0700
TZNAME:PDT
DTSTART:20230312T100000
END:DAYLIGHT
BEGIN:STANDARD
TZOFFSETFROM:-0700
TZOFFSETTO:-0800
TZNAME:PST
DTSTART:20231105T090000
END:STANDARD
BEGIN:DAYLIGHT
TZOFFSETFROM:-0800
TZOFFSETTO:-0700
TZNAME:PDT
DTSTART:20240310T100000
END:DAYLIGHT
BEGIN:STANDARD
TZOFFSETFROM:-0700
TZOFFSETTO:-0800
TZNAME:PST
DTSTART:20241103T090000
END:STANDARD
BEGIN:DAYLIGHT
TZOFFSETFROM:-0800
TZOFFSETTO:-0700
TZNAME:PDT
DTSTART:20250309T100000
END:DAYLIGHT
BEGIN:STANDARD
TZOFFSETFROM:-0700
TZOFFSETTO:-0800
TZNAME:PST
DTSTART:20251102T090000
END:STANDARD
END:VTIMEZONE
BEGIN:VTIMEZONE
TZID:America/Edmonton
BEGIN:DAYLIGHT
TZOFFSETFROM:-0700
TZOFFSETTO:-0600
TZNAME:MDT
DTSTART:20220313T090000
END:DAYLIGHT
BEGIN:STANDARD
TZOFFSETFROM:-0600
TZOFFSETTO:-0700
TZNAME:MST
DTSTART:20221106T080000
END:STANDARD
BEGIN:DAYLIGHT
TZOFFSETFROM:-0700
TZOFFSETTO:-0600
TZNAME:MDT
DTSTART:20230312T090000
END:DAYLIGHT
BEGIN:STANDARD
TZOFFSETFROM:-0600
TZOFFSETTO:-0700
TZNAME:MST
DTSTART:20231105T080000
END:STANDARD
BEGIN:DAYLIGHT
TZOFFSETFROM:-0700
TZOFFSETTO:-0600
TZNAME:MDT
DTSTART:20240310T090000
END:DAYLIGHT
BEGIN:STANDARD
TZOFFSETFROM:-0600
TZOFFSETTO:-0700
TZNAME:MST
DTSTART:20241103T080000
END:STANDARD
BEGIN:DAYLIGHT
TZOFFSETFROM:-0700
TZOFFSETTO:-0600
TZNAME:MDT
DTSTART:20250309T090000
END:DAYLIGHT
BEGIN:STANDARD
TZOFFSETFROM:-0600
TZOFFSETTO:-0700
TZNAME:MST
DTSTART:20251102T080000
END:STANDARD
END:VTIMEZONE
BEGIN:VTIMEZONE
TZID:Africa/Freetown
BEGIN:STANDARD
TZOFFSETFROM:+0000
TZOFFSETTO:+0000
TZNAME:GMT
DTSTART:20220101T000000
END:STANDARD
END:VTIMEZONE
BEGIN:VEVENT
DTSTART;TZID=America/Vancouver:20240516T150000
DTEND;TZID=America/Vancouver:20240516T233000
DTSTAMP:20260420T225501
CREATED:20221126T210751Z
LAST-MODIFIED:20240513T201835Z
UID:6197-1715871600-1715902200@bayleeshots.best
SUMMARY:Hippie Luv Nest - Edmonton
DESCRIPTION:A Mess of Gorgeous Chaos – Baylee Shots is Hanging at the Hippie Luv Nest
URL:https://bayleeshots.best/event/hippie-luv-nest-edmonton-3/
CATEGORIES:Alberta,Edmonton,Hippi Luv Nest
ATTACH;FMTTYPE=image/jpeg:https://bayleeshots.best/wp-content/uploads/2020/09/19C60321-05D8-4BF8-B185-39CE8D4CBBED_1_105_c.jpeg
END:VEVENT
BEGIN:VEVENT
DTSTART;TZID=America/Edmonton:20240421T060000
DTEND;TZID=America/Edmonton:20240421T235900
DTSTAMP:20260420T225501
CREATED:20210525T172122Z
LAST-MODIFIED:20240419T232525Z
UID:2594-1713679200-1713743940@bayleeshots.best
SUMMARY:Hippie Luv Nest - Edmonton
DESCRIPTION:Morning Cock & Coffee at the Hippie Luv Nest\n\n\n\nChatting about you babes\, and how I crave your touch.. your lips and many other things.. Giggles just the Hippie luv that we share… But really\, what I am to do with you after all that excitement of cuming that close to the end.. \nHow often do you get fed? what about outings do I take you everywhere? OHH MY! that lots to do with you.. lets just say we keep it the way it is.. Giggles  Just saying… DEPOSITS are required to hang with me at the HIPPIE LUV NEST.  \n\nGive me a good intro – Name and Age\nPick a time that works for you – We can make it work\nPay deposit – Get more info for our encounter\nArrive at HIPPIE LUV NEST – Have some Fun  \n\nUntil our paths collide – work and play safe in this chaotic world.  Always gonna be A Mess of Gorgeous Chaos – Baylee Shots  \nPS: Don’t forget I have an innovative way of showing you my Digital Street It’s kinda like OnlyFans or Fansly but Baylee Style \n 
URL:https://bayleeshots.best/event/edmonton-3/
CATEGORIES:Alberta,Edmonton
ATTACH;FMTTYPE=image/jpeg:https://bayleeshots.best/wp-content/uploads/2022/11/DiscreetListAd21-scaled-1-1024x683-1.jpeg
END:VEVENT
BEGIN:VEVENT
DTSTART;TZID=America/Edmonton:20240420T070000
DTEND;TZID=America/Edmonton:20240420T233000
DTSTAMP:20260420T225501
CREATED:20210609T225947Z
LAST-MODIFIED:20240419T232555Z
UID:2647-1713596400-1713655800@bayleeshots.best
SUMMARY:Hippie Luv Nest - Edmonton
DESCRIPTION:Hanging at the Hippie Luv Nest in Edmonton \nThe breeze at dawn has secrets to tell you. Babes\, don’t go back to sleep. It is a serious thing – just to be alive – on this fresh morning – in this broken world…here at the Hippie Luv Nest \nGiggles! Having morning Cock & Coffee with a Shot of Baylee always ends up in A Mess of Gorgeous Chaos here at the Hippie Luver Nest in Edmonton \nJust remember babes.. now that you’ve given it to me\, your email that is.. we can get acquainted with one another. Just make sure to give me a good intro.. cause it matters babes!   \nIm sure you’ve seen the 25% deposit required for first time cumers!  I know right.. works on both sides of the fence!  Glad to see you’re just as real as me Baylee Shots – A Mess of Gorgeous Chaos  \nohh my babes.. I forgot!  You can always be a voyeur in my world on DIGITAL STREET.  It’s Baylee Style of fansly or onlyfans \n\n\nUntil our paths collide – work and play safe in this chaotic world \nBaylee Shots
URL:https://bayleeshots.best/event/hippie-luv-nest-3/
CATEGORIES:Alberta,Edmonton
ATTACH;FMTTYPE=image/jpeg:https://bayleeshots.best/wp-content/uploads/2022/06/BULY4665-scaled.jpeg
END:VEVENT
BEGIN:VEVENT
DTSTART;TZID=America/Vancouver:20240419T060000
DTEND;TZID=America/Vancouver:20240419T233000
DTSTAMP:20260420T225501
CREATED:20230311T025438Z
LAST-MODIFIED:20240419T232627Z
UID:6883-1713506400-1713569400@bayleeshots.best
SUMMARY:Hippie Luv Nest - Edmonton
DESCRIPTION:Hangin at the Hippie Luv Nest – Edmonton\nThat’s right babes!  This Mess of Gorgeous chaos is hanging at the Hippie Luv Nest in Edmonton.  Just for a few days to water some plants and do a little spring cleaning   Keeping it alive here and there. \nCum check it out babes.. just remember\, I do require a 25% deposit for !st time cumers \nThinking you can’t make it this trip.. click about in my world to find Digital Street.  It’s kinda like ONLYFANS or FANSLY \nJust click it right here and it’ll take you to the wanna knows of Baylee Shots.  I know babes\, it’s a chaotic world out there and I just want to make sure your as real as I am. \nUntil our paths collide – work and play safe in this chaotic world \nBaylee Shots
URL:https://bayleeshots.best/event/hippie-luv-nest-edmonton-6/
CATEGORIES:Alberta,Edmonton,Hippi Luv Nest
ATTACH;FMTTYPE=image/jpeg:https://bayleeshots.best/wp-content/uploads/2022/06/BULY4674-scaled-1.jpg
END:VEVENT
BEGIN:VEVENT
DTSTART;TZID=America/Vancouver:20240418T060000
DTEND;TZID=America/Vancouver:20240418T233000
DTSTAMP:20260420T225501
CREATED:20230417T221505Z
LAST-MODIFIED:20240419T232703Z
UID:6991-1713420000-1713483000@bayleeshots.best
SUMMARY:Hippie Luv Nest - Edmonton
DESCRIPTION:This Mess of Gorgeous Chaos is at the Hippie Luv Nest\nBabes! Babes! I know right!  Another day here at the Hippie Luv Nest..  Just Make sure to be a voyeur in my world right here to get the wanna knows of this Mess of Gorgeous Chaos – Baylee Shots.  When you’re clicking bout.. make sure to click the Wanna Knows of Baylee Shots.  It’s kinda like ONLYFANS or FANSLY but Baylee Style.  You know you wanna! \nJust saying again.. first time cummers are required to pay a 25% deposit as well as some screening.  Can’t wait to have your hands all over me!  until our paths collide – work and play safe in this chaotic world \nAlways gonna be \nA Mess of Gorgeous Chaos – Baylee Shots
URL:https://bayleeshots.best/event/hippie-luv-nest-edmonton-7/
CATEGORIES:Alberta,Edmonton,Hippi Luv Nest
ATTACH;FMTTYPE=image/jpeg:https://bayleeshots.best/wp-content/uploads/2022/06/MG_6328-scaled-e1663886400103.jpg
END:VEVENT
BEGIN:VEVENT
DTSTART;TZID=America/Edmonton:20240323T060000
DTEND;TZID=America/Edmonton:20240323T230000
DTSTAMP:20260420T225501
CREATED:20210610T030309Z
LAST-MODIFIED:20240323T133356Z
UID:2651-1711173600-1711234800@bayleeshots.best
SUMMARY:Hippie Luv Nest - Edmonton
DESCRIPTION:Hippie Luv Nest – Edmonton\n Hippie luv nest always starts with a coffee and ends with a wine!  I feel in my princess world that everyone should believe in something… Giggles\, I believe I’ll have another cup of Coffee with a Shot of Baylee! \nI know babes.. but the 25% deposit just makes sure you’re committed in all the right ways.. Starting with.. you are just as real as me\, Baylee Shots – A Mess of Gorgeous Chaos \nIf one on one isn’t for you in this chaotic world.. you can always catch me on DIGITAL STREET  It’s the Baylee Style of fansly \nUntil our paths collide – work and play safe in this chaotic world \nAlways gonna be A Mess of Gorgeous Chaos in Edmonton \nBaylee Shots
URL:https://bayleeshots.best/event/hippie-luv-nest-2/
CATEGORIES:Alberta,Edmonton,Hippi Luv Nest
ATTACH;FMTTYPE=image/jpeg:https://bayleeshots.best/wp-content/uploads/2022/06/MG_6320-scaled.jpg
END:VEVENT
BEGIN:VEVENT
DTSTART;TZID=America/Vancouver:20231002T150000
DTEND;TZID=America/Vancouver:20231002T233000
DTSTAMP:20260420T225501
CREATED:20220625T011315Z
LAST-MODIFIED:20230927T173200Z
UID:4968-1696258800-1696289400@bayleeshots.best
SUMMARY:Hippie Luv Nest - Edmonton
DESCRIPTION:Baylee Shots at the Hippie Luv Nest in Edmonton\nBabes.. Once you eliminate the impossible\, whatever remains\, no matter how improbable\, it must be the truth…. Giggles  Just saying… DEPOSITS are required to hang with me at the HIPPIE LUV NEST. \n\nGive me a good intro – Name and Age\nPick a time that works for you – We can make it work\nPay deposit – Get more info for our encounter\nArrive at HIPPIE LUV NEST – Have some Fun\n\nUntil our paths collide – work and play safe in this chaotic world. \nAlways gonna be A Mess of Gorgeous Chaos – Baylee Shots
URL:https://bayleeshots.best/event/hippie-luv-nest/
CATEGORIES:Alberta,Edmonton
ATTACH;FMTTYPE=image/jpeg:https://bayleeshots.best/wp-content/uploads/2022/06/MG_6328-scaled-e1663886400103.jpg
END:VEVENT
BEGIN:VEVENT
DTSTART;TZID=Africa/Freetown:20230626T060000
DTEND;TZID=Africa/Freetown:20230626T230000
DTSTAMP:20260420T225501
CREATED:20210327T192223Z
LAST-MODIFIED:20230624T012754Z
UID:2548-1687759200-1687820400@bayleeshots.best
SUMMARY:Hippie Luv Nest - Edmonton
DESCRIPTION:Baylee Shots at the Hippie Luv Nest\nI can resist pretty much everything – but honestly being A Mess of Gorgeous chaos has gotten me into this temptation to ignore the resistance here at the Hippie Luv Nest!  And really\, just indulge in Hippie Luv and sensuality! \nGiggles – I’m just too busy growing my grass to be looking at the colour of yours – \n\nBabes\, I’m sure you’ve been clicking around my world and see that to get with this Mess of Gorgeous Chaos\, you’ll have to be at least 30 years of age.  And… I do require a 25% deposit for first time CUMERS \nUntil our paths collide – work and play safe in this chaotic worl \nAlways\, A Mess of Gorgeous Chaos – Baylee Shots\n\n\n\n\n\n\n\n\n\n\n\n\n \n\n  \n\n 
URL:https://bayleeshots.best/event/camrose-2/
CATEGORIES:Alberta,Edmonton
ATTACH;FMTTYPE=image/jpeg:https://bayleeshots.best/wp-content/uploads/2022/06/MG_6320-scaled.jpg
END:VEVENT
BEGIN:VEVENT
DTSTART;TZID=America/Edmonton:20230625T170000
DTEND;TZID=America/Edmonton:20230625T235900
DTSTAMP:20260420T225501
CREATED:20210325T182500Z
LAST-MODIFIED:20230624T012627Z
UID:2468-1687712400-1687737540@bayleeshots.best
SUMMARY:Hippie Luv Nest - Edmonton
DESCRIPTION:Morning Cock & Coffee with A Mess of Gorgeous Chaos in Edmonton \n\n\n\nGiggles – Always A Mess of Gorgeous Chaos & maybe A ruthless queen in public\, but I’m a charming princess in private.   \nJust saying… DEPOSITS are required to hang with me at the HIPPIE LUV NEST.  \n\nGive me a good intro – Name and Age\nPick a time that works for you – We can make it work\nPay deposit – Get more info for our encounter\nArrive at HIPPIE LUV NEST – Have some Fun  \n\nUntil our paths collide – work and play safe in this chaotic world.  Always gonna be A Mess of Gorgeous Chaos – Baylee Shots
URL:https://bayleeshots.best/event/edmonton-2/
CATEGORIES:Alberta,Edmonton,Hippi Luv Nest
ATTACH;FMTTYPE=image/jpeg:https://bayleeshots.best/wp-content/uploads/2022/06/imageedit_3_8170502444-1.jpg
END:VEVENT
BEGIN:VEVENT
DTSTART;TZID=America/Vancouver:20230615T150000
DTEND;TZID=America/Vancouver:20230615T233000
DTSTAMP:20260420T225501
CREATED:20221126T211933Z
LAST-MODIFIED:20230531T170427Z
UID:6201-1686841200-1686871800@bayleeshots.best
SUMMARY:Hippie Luv Nest - Edmonton
DESCRIPTION:Baylee Shots – A Mess of Gorgeous Chaos is hanging at the Hippie Luv Nest in Edmonton
URL:https://bayleeshots.best/event/hippie-luv-nest-edmonton-5/
CATEGORIES:Alberta,Edmonton,Hippi Luv Nest
ATTACH;FMTTYPE=image/jpeg:https://bayleeshots.best/wp-content/uploads/2020/10/1C2C3F85-9B39-421A-8410-D4F07BBAC55E-rotated-1.jpeg
END:VEVENT
BEGIN:VEVENT
DTSTART;TZID=America/Vancouver:20230505T060000
DTEND;TZID=America/Vancouver:20230505T233000
DTSTAMP:20260420T225501
CREATED:20221126T210252Z
LAST-MODIFIED:20230417T223625Z
UID:6195-1683266400-1683329400@bayleeshots.best
SUMMARY:Hippie Luv Nest - Edmonton
DESCRIPTION:A Mess of Gorgeous Chaos – Baylee Shots is hanging at the Hippie Luv Nest
URL:https://bayleeshots.best/event/hippie-luv-nest-edmonton-2/
CATEGORIES:Alberta,Edmonton,Hippi Luv Nest
ATTACH;FMTTYPE=image/jpeg:https://bayleeshots.best/wp-content/uploads/2022/06/img_0683-rotated-1.jpg
END:VEVENT
BEGIN:VEVENT
DTSTART;TZID=America/Vancouver:20230504T060000
DTEND;TZID=America/Vancouver:20230504T233000
DTSTAMP:20260420T225501
CREATED:20221126T181533Z
LAST-MODIFIED:20230417T223953Z
UID:6191-1683180000-1683243000@bayleeshots.best
SUMMARY:Hippie Luv Nest - Edmonton
DESCRIPTION:Baylee Shots – a Mess of Gorgeous Chaos hanging at the Hippie Luv Nest\n 
URL:https://bayleeshots.best/event/hippie-luv-nest-4/
CATEGORIES:Alberta,Edmonton,Hippi Luv Nest
ATTACH;FMTTYPE=image/jpeg:https://bayleeshots.best/wp-content/uploads/2021/03/F28A540A-AAC4-4D7D-A67E-48B0ECF11F9C-rotated.jpeg
END:VEVENT
BEGIN:VEVENT
DTSTART;TZID=America/Vancouver:20230503T060000
DTEND;TZID=America/Vancouver:20230503T233000
DTSTAMP:20260420T225501
CREATED:20221126T180727Z
LAST-MODIFIED:20230417T224044Z
UID:6189-1683093600-1683156600@bayleeshots.best
SUMMARY:Hippie Luv Nest - Edmonton
DESCRIPTION:A Mess of Gorgeous Chaos – Baylee Shots is hanging at the Hippie Luv Nest\n 
URL:https://bayleeshots.best/event/hippie-luv-nest-edmonton/
CATEGORIES:Alberta,Edmonton,Hippi Luv Nest
ATTACH;FMTTYPE=image/jpeg:https://bayleeshots.best/wp-content/uploads/2020/10/1C2C3F85-9B39-421A-8410-D4F07BBAC55E-rotated-1.jpeg
END:VEVENT
BEGIN:VEVENT
DTSTART;TZID=America/Vancouver:20230121T080000
DTEND;TZID=America/Vancouver:20230121T233000
DTSTAMP:20260420T225501
CREATED:20230117T145302Z
LAST-MODIFIED:20230121T212755Z
UID:6188-1674288000-1674343800@bayleeshots.best
SUMMARY:Hippie Luv Nest - Edmonton
DESCRIPTION:Baylee Shots – A Mess of Gorgeous Chaos is hanging at the Hippie Luv Nest in Edmonton\n 
URL:https://bayleeshots.best/event/hippie-luv-nest-5/
CATEGORIES:Alberta,Edmonton
ATTACH;FMTTYPE=image/jpeg:https://bayleeshots.best/wp-content/uploads/2022/06/13E7D27B-6282-42AA-AC14-551B6127F12E_1_105_c.jpeg
END:VEVENT
END:VCALENDAR