BEGIN:VCALENDAR
VERSION:2.0
PRODID:-//Baylee Shots - ECPv6.15.14//NONSGML v1.0//EN
CALSCALE:GREGORIAN
METHOD:PUBLISH
X-WR-CALNAME:Baylee Shots
X-ORIGINAL-URL:https://bayleeshots.best
X-WR-CALDESC:Events for Baylee Shots
REFRESH-INTERVAL;VALUE=DURATION:PT1H
X-Robots-Tag:noindex
X-PUBLISHED-TTL:PT1H
BEGIN:VTIMEZONE
TZID:America/Vancouver
BEGIN:DAYLIGHT
TZOFFSETFROM:-0800
TZOFFSETTO:-0700
TZNAME:PDT
DTSTART:20250309T100000
END:DAYLIGHT
BEGIN:STANDARD
TZOFFSETFROM:-0700
TZOFFSETTO:-0800
TZNAME:PST
DTSTART:20251102T090000
END:STANDARD
BEGIN:DAYLIGHT
TZOFFSETFROM:-0800
TZOFFSETTO:-0700
TZNAME:PDT
DTSTART:20260308T100000
END:DAYLIGHT
BEGIN:STANDARD
TZOFFSETFROM:-0700
TZOFFSETTO:-0800
TZNAME:PST
DTSTART:20261101T090000
END:STANDARD
BEGIN:DAYLIGHT
TZOFFSETFROM:-0800
TZOFFSETTO:-0700
TZNAME:PDT
DTSTART:20270314T100000
END:DAYLIGHT
BEGIN:STANDARD
TZOFFSETFROM:-0700
TZOFFSETTO:-0800
TZNAME:PST
DTSTART:20271107T090000
END:STANDARD
END:VTIMEZONE
BEGIN:VEVENT
DTSTART;TZID=America/Vancouver:20260307T150000
DTEND;TZID=America/Vancouver:20260307T150000
DTSTAMP:20260421T142817
CREATED:20230121T223731Z
LAST-MODIFIED:20260301T211549Z
UID:6644-1772895600-1772895600@bayleeshots.best
SUMMARY:Dawson Creek
DESCRIPTION:Baylee Shots is in Dawson Creek
URL:https://bayleeshots.best/event/dawson-creek-3/
CATEGORIES:British Columbia,Dawson Creek
ATTACH;FMTTYPE=image/jpeg:https://bayleeshots.best/wp-content/uploads/2023/01/04476210-2137-4319-8D78-518875F7BD16.jpeg
END:VEVENT
BEGIN:VEVENT
DTSTART;TZID=America/Vancouver:20260308T150000
DTEND;TZID=America/Vancouver:20260308T150000
DTSTAMP:20260421T142817
CREATED:20221230T155518Z
LAST-MODIFIED:20260301T212313Z
UID:6442-1772982000-1772982000@bayleeshots.best
SUMMARY:Dawson Creek
DESCRIPTION:A Mess of Gorgeous Chaos – Baylee Shots is in Dawson Creek!\nI know babes… I’m just as excited as you! \nIt’s been awhile since I’ve been around Dawson Creek.. so just saying babes\, you’re different\, but not different from the other genuine gents!  Thats right babes.. you’ll have to pay the deposit if you’re a FIRST TIME CUMER! \nEasy as 1\, 2\, 3! \n\nText (587) 336 – 8254\nmake sure to give it to me.. Giggles your NAME\, AGE\, and LOCATION\ndo a few things for screening\nset you’re encounter time and date\nsend deposit\n\nAfter that babes\, I’ll give you the juicy details how to get those hands all over me \nUntil our paths collide – work and play safe in this chaotic world \nAlways gonna be \nA Mess of Gorgeous Chaos – Baylee Shots
URL:https://bayleeshots.best/event/dawson-creek/
CATEGORIES:British Columbia,Dawson Creek
ATTACH;FMTTYPE=image/jpeg:https://bayleeshots.best/wp-content/uploads/2023/01/E3334F40-3B8D-467F-8054-B7128296A186-scaled.jpeg
END:VEVENT
END:VCALENDAR