BEGIN:VCALENDAR
VERSION:2.0
PRODID:-//Baylee Shots - ECPv6.15.14//NONSGML v1.0//EN
CALSCALE:GREGORIAN
METHOD:PUBLISH
X-ORIGINAL-URL:https://bayleeshots.best
X-WR-CALDESC:Events for Baylee Shots
REFRESH-INTERVAL;VALUE=DURATION:PT1H
X-Robots-Tag:noindex
X-PUBLISHED-TTL:PT1H
BEGIN:VTIMEZONE
TZID:America/Vancouver
BEGIN:DAYLIGHT
TZOFFSETFROM:-0800
TZOFFSETTO:-0700
TZNAME:PDT
DTSTART:20250309T100000
END:DAYLIGHT
BEGIN:STANDARD
TZOFFSETFROM:-0700
TZOFFSETTO:-0800
TZNAME:PST
DTSTART:20251102T090000
END:STANDARD
BEGIN:DAYLIGHT
TZOFFSETFROM:-0800
TZOFFSETTO:-0700
TZNAME:PDT
DTSTART:20260308T100000
END:DAYLIGHT
BEGIN:STANDARD
TZOFFSETFROM:-0700
TZOFFSETTO:-0800
TZNAME:PST
DTSTART:20261101T090000
END:STANDARD
BEGIN:DAYLIGHT
TZOFFSETFROM:-0800
TZOFFSETTO:-0700
TZNAME:PDT
DTSTART:20270314T100000
END:DAYLIGHT
BEGIN:STANDARD
TZOFFSETFROM:-0700
TZOFFSETTO:-0800
TZNAME:PST
DTSTART:20271107T090000
END:STANDARD
END:VTIMEZONE
BEGIN:VEVENT
DTSTART;TZID=America/Vancouver:20260303T150000
DTEND;TZID=America/Vancouver:20260303T150000
DTSTAMP:20260423T073446
CREATED:20220919T004507Z
LAST-MODIFIED:20260301T211635Z
UID:5268-1772550000-1772550000@bayleeshots.best
SUMMARY:Williams Lake
DESCRIPTION:Williams Lake has a Mess of Gorgeous Chaos\nJust saying Babes.. Getting with A Mess of Gorgeous Chaos is that easy – Just thinking how chaotic the world is.. and the crazies hippie luvers out there.. So advance scheduling is happening with a 25% deposit paid for all first time cumers. \nSo just click it RIGHT HERE to find all the juicy details on how to get with this Mess of Gorgeous Chaos.  Let the whirlwind create a wet landing. \nIf you’re that guy that just likes to self excite.. you can always find me on Digital Street.  It’s like my ONLYFANS or FANSLY\, but Baylee Style!  Giggles \n  \nSending lots of kisses to the genuine gents that make their own mess of gorgeous chaos. \nUntil our paths collide – work and play safe in this chaotic world.. \nAlways\, A Mess of Gorgeous Chaos – Baylee Shots
URL:https://bayleeshots.best/event/williams-lake-2/
CATEGORIES:British Columbia,Williams Lake
ATTACH;FMTTYPE=image/jpeg:https://bayleeshots.best/wp-content/uploads/2022/06/C32A0318-7896-4F45-ABE7-C64280C95744.jpeg
END:VEVENT
END:VCALENDAR