BEGIN:VCALENDAR
VERSION:2.0
PRODID:-//Baylee Shots - ECPv6.15.14//NONSGML v1.0//EN
CALSCALE:GREGORIAN
METHOD:PUBLISH
X-ORIGINAL-URL:https://bayleeshots.best
X-WR-CALDESC:Events for Baylee Shots
REFRESH-INTERVAL;VALUE=DURATION:PT1H
X-Robots-Tag:noindex
X-PUBLISHED-TTL:PT1H
BEGIN:VTIMEZONE
TZID:America/Vancouver
BEGIN:DAYLIGHT
TZOFFSETFROM:-0800
TZOFFSETTO:-0700
TZNAME:PDT
DTSTART:20210314T100000
END:DAYLIGHT
BEGIN:STANDARD
TZOFFSETFROM:-0700
TZOFFSETTO:-0800
TZNAME:PST
DTSTART:20211107T090000
END:STANDARD
BEGIN:DAYLIGHT
TZOFFSETFROM:-0800
TZOFFSETTO:-0700
TZNAME:PDT
DTSTART:20220313T100000
END:DAYLIGHT
BEGIN:STANDARD
TZOFFSETFROM:-0700
TZOFFSETTO:-0800
TZNAME:PST
DTSTART:20221106T090000
END:STANDARD
BEGIN:DAYLIGHT
TZOFFSETFROM:-0800
TZOFFSETTO:-0700
TZNAME:PDT
DTSTART:20230312T100000
END:DAYLIGHT
BEGIN:STANDARD
TZOFFSETFROM:-0700
TZOFFSETTO:-0800
TZNAME:PST
DTSTART:20231105T090000
END:STANDARD
BEGIN:DAYLIGHT
TZOFFSETFROM:-0800
TZOFFSETTO:-0700
TZNAME:PDT
DTSTART:20240310T100000
END:DAYLIGHT
BEGIN:STANDARD
TZOFFSETFROM:-0700
TZOFFSETTO:-0800
TZNAME:PST
DTSTART:20241103T090000
END:STANDARD
END:VTIMEZONE
BEGIN:VTIMEZONE
TZID:America/Edmonton
BEGIN:DAYLIGHT
TZOFFSETFROM:-0700
TZOFFSETTO:-0600
TZNAME:MDT
DTSTART:20210314T090000
END:DAYLIGHT
BEGIN:STANDARD
TZOFFSETFROM:-0600
TZOFFSETTO:-0700
TZNAME:MST
DTSTART:20211107T080000
END:STANDARD
BEGIN:DAYLIGHT
TZOFFSETFROM:-0700
TZOFFSETTO:-0600
TZNAME:MDT
DTSTART:20220313T090000
END:DAYLIGHT
BEGIN:STANDARD
TZOFFSETFROM:-0600
TZOFFSETTO:-0700
TZNAME:MST
DTSTART:20221106T080000
END:STANDARD
BEGIN:DAYLIGHT
TZOFFSETFROM:-0700
TZOFFSETTO:-0600
TZNAME:MDT
DTSTART:20230312T090000
END:DAYLIGHT
BEGIN:STANDARD
TZOFFSETFROM:-0600
TZOFFSETTO:-0700
TZNAME:MST
DTSTART:20231105T080000
END:STANDARD
BEGIN:DAYLIGHT
TZOFFSETFROM:-0700
TZOFFSETTO:-0600
TZNAME:MDT
DTSTART:20240310T090000
END:DAYLIGHT
BEGIN:STANDARD
TZOFFSETFROM:-0600
TZOFFSETTO:-0700
TZNAME:MST
DTSTART:20241103T080000
END:STANDARD
END:VTIMEZONE
BEGIN:VEVENT
DTSTART;TZID=America/Vancouver:20230624T150000
DTEND;TZID=America/Vancouver:20230624T233000
DTSTAMP:20260420T225512
CREATED:20221126T171521Z
LAST-MODIFIED:20230621T213050Z
UID:6184-1687618800-1687649400@bayleeshots.best
SUMMARY:Beautiful Crazy
DESCRIPTION:Beautiful Crazy with A Mess of Gorgeous Chaos – Baylee Shots\n\nMore & More with this Mess of Gorgeous Chaos – Baylee Shots. Always\, Starts with a coffee\, then ends with a wine.. giggles and then repeat!\nUntil our paths collide – work and play safe in this chaotic world
URL:https://bayleeshots.best/event/beautiful-crazy/
CATEGORIES:Alberta,Beautiful Crazy,Lethbridge
ATTACH;FMTTYPE=image/jpeg:https://bayleeshots.best/wp-content/uploads/2022/06/IMG_3647-scaled.jpeg
END:VEVENT
BEGIN:VEVENT
DTSTART;TZID=America/Vancouver:20230615T150000
DTEND;TZID=America/Vancouver:20230615T233000
DTSTAMP:20260420T225512
CREATED:20221126T211933Z
LAST-MODIFIED:20230531T170427Z
UID:6201-1686841200-1686871800@bayleeshots.best
SUMMARY:Hippie Luv Nest - Edmonton
DESCRIPTION:Baylee Shots – A Mess of Gorgeous Chaos is hanging at the Hippie Luv Nest in Edmonton
URL:https://bayleeshots.best/event/hippie-luv-nest-edmonton-5/
CATEGORIES:Alberta,Edmonton,Hippi Luv Nest
ATTACH;FMTTYPE=image/jpeg:https://bayleeshots.best/wp-content/uploads/2020/10/1C2C3F85-9B39-421A-8410-D4F07BBAC55E-rotated-1.jpeg
END:VEVENT
BEGIN:VEVENT
DTSTART;TZID=America/Vancouver:20230505T060000
DTEND;TZID=America/Vancouver:20230505T233000
DTSTAMP:20260420T225512
CREATED:20221126T210252Z
LAST-MODIFIED:20230417T223625Z
UID:6195-1683266400-1683329400@bayleeshots.best
SUMMARY:Hippie Luv Nest - Edmonton
DESCRIPTION:A Mess of Gorgeous Chaos – Baylee Shots is hanging at the Hippie Luv Nest
URL:https://bayleeshots.best/event/hippie-luv-nest-edmonton-2/
CATEGORIES:Alberta,Edmonton,Hippi Luv Nest
ATTACH;FMTTYPE=image/jpeg:https://bayleeshots.best/wp-content/uploads/2022/06/img_0683-rotated-1.jpg
END:VEVENT
BEGIN:VEVENT
DTSTART;TZID=America/Vancouver:20230504T060000
DTEND;TZID=America/Vancouver:20230504T233000
DTSTAMP:20260420T225512
CREATED:20221126T181533Z
LAST-MODIFIED:20230417T223953Z
UID:6191-1683180000-1683243000@bayleeshots.best
SUMMARY:Hippie Luv Nest - Edmonton
DESCRIPTION:Baylee Shots – a Mess of Gorgeous Chaos hanging at the Hippie Luv Nest\n 
URL:https://bayleeshots.best/event/hippie-luv-nest-4/
CATEGORIES:Alberta,Edmonton,Hippi Luv Nest
ATTACH;FMTTYPE=image/jpeg:https://bayleeshots.best/wp-content/uploads/2021/03/F28A540A-AAC4-4D7D-A67E-48B0ECF11F9C-rotated.jpeg
END:VEVENT
BEGIN:VEVENT
DTSTART;TZID=America/Vancouver:20230503T060000
DTEND;TZID=America/Vancouver:20230503T233000
DTSTAMP:20260420T225512
CREATED:20221126T180727Z
LAST-MODIFIED:20230417T224044Z
UID:6189-1683093600-1683156600@bayleeshots.best
SUMMARY:Hippie Luv Nest - Edmonton
DESCRIPTION:A Mess of Gorgeous Chaos – Baylee Shots is hanging at the Hippie Luv Nest\n 
URL:https://bayleeshots.best/event/hippie-luv-nest-edmonton/
CATEGORIES:Alberta,Edmonton,Hippi Luv Nest
ATTACH;FMTTYPE=image/jpeg:https://bayleeshots.best/wp-content/uploads/2020/10/1C2C3F85-9B39-421A-8410-D4F07BBAC55E-rotated-1.jpeg
END:VEVENT
BEGIN:VEVENT
DTSTART;TZID=America/Edmonton:20230502T150000
DTEND;TZID=America/Edmonton:20230502T230000
DTSTAMP:20260420T225512
CREATED:20210303T140254Z
LAST-MODIFIED:20230417T224129Z
UID:2466-1683039600-1683068400@bayleeshots.best
SUMMARY:Camrose
DESCRIPTION:Giggles – I like the long walks on the beach.. BUT! we have to be Hippie Luvin it somewhere along the way cause there’s no beaches worth seeing in Camrose – just cause I am a BC gal \nJust saying… DEPOSITS are required to hang with me at the HIPPIE LUV NEST for all genuine gents \n\nGive me a good intro – Name and Age\nPick a time that works for you – We can make it work\nPay deposit – Get more info for our encounter\nArrive at HIPPIE LUV NEST – Have some Fun  \n\nYou can always be a voyeur in my world right here on DIGITAL STREET.  It’s the Baylee Style of Onlyfans… But better! Giggles  \nUntil our paths collide – work and play safe in this chaotic world.  Always gonna be A Mess of Gorgeous Chaos – Baylee Shots
URL:https://bayleeshots.best/event/edmonton/
CATEGORIES:Alberta,Camrose
ATTACH;FMTTYPE=image/jpeg:https://bayleeshots.best/wp-content/uploads/2022/06/13E7D27B-6282-42AA-AC14-551B6127F12E_1_105_c.jpeg
END:VEVENT
BEGIN:VEVENT
DTSTART;TZID=America/Vancouver:20230421T140000
DTEND;TZID=America/Vancouver:20230421T233000
DTSTAMP:20260420T225512
CREATED:20221119T183439Z
LAST-MODIFIED:20230417T224831Z
UID:6080-1682085600-1682119800@bayleeshots.best
SUMMARY:Grande Prairie
DESCRIPTION:Grande Prairie has A Mess of Gorgeous Chaos – Baylee Shots\nBABES! BABES! Are you ready to have a sexorcism with A Mess of Gorgeous Chaos?  Giggles – that’s right babes\, I’ll be in Swift Current to help with the sexorcisms of genuine gents that’s been screwed the wrong way! ohh my babes \nYou just gotta know the difference… you know the scammers and the good gals.. the professionals of the Adult industry?  Anyways\, from what I hear.. you need a SEXORCISM of the scammers Giggles \nBabes\, you already gave it to me.. your email that is!  So lets get on with it.  Just saying\, I’m sure you’ve seen the 25% for first time cumers?  I know babes.. but I guess you could say I’m doing sexorcisms of my own\, by cutting down with the time wasters and scammers that work us good gals in the Adult industry \nYou can always be a voyeur on DIGTAL STREET  It’s my Baylee Style of Onlyfans but better! \n 
URL:https://bayleeshots.best/event/swift-current/
CATEGORIES:Alberta,Grande Prairie
ATTACH;FMTTYPE=image/jpeg:https://bayleeshots.best/wp-content/uploads/2023/01/04476210-2137-4319-8D78-518875F7BD16.jpeg
END:VEVENT
BEGIN:VEVENT
DTSTART;TZID=America/Vancouver:20230121T080000
DTEND;TZID=America/Vancouver:20230121T233000
DTSTAMP:20260420T225512
CREATED:20230117T145302Z
LAST-MODIFIED:20230121T212755Z
UID:6188-1674288000-1674343800@bayleeshots.best
SUMMARY:Hippie Luv Nest - Edmonton
DESCRIPTION:Baylee Shots – A Mess of Gorgeous Chaos is hanging at the Hippie Luv Nest in Edmonton\n 
URL:https://bayleeshots.best/event/hippie-luv-nest-5/
CATEGORIES:Alberta,Edmonton
ATTACH;FMTTYPE=image/jpeg:https://bayleeshots.best/wp-content/uploads/2022/06/13E7D27B-6282-42AA-AC14-551B6127F12E_1_105_c.jpeg
END:VEVENT
BEGIN:VEVENT
DTSTART;TZID=America/Edmonton:20221215T140000
DTEND;TZID=America/Edmonton:20221215T230000
DTSTAMP:20260420T225512
CREATED:20210604T202217Z
LAST-MODIFIED:20221209T144335Z
UID:2619-1671112800-1671145200@bayleeshots.best
SUMMARY:Camrose
DESCRIPTION:Camrose – It’s percolating the perfect touch for that Baylee Shots – A Mess of Gorgeous Chaos \n\n\n\nBut I could be your crush\, like\, GIGGLES\, throw you for a rush\, like Hoping you’d text me so I could tell you – I been thinking ’bout your touch like your hands all over my body and the smell of you and your manties.. I can keep going – Giggles \nNow that you gave it to me.. your email that is\, you can see I’m taking the next steps to cutting out the time wasters and scammers.. Babes\, I’m just as real a you\, so as you see\, first time cumers require a 25% deposit.  I know babes.. it’s just gotta be! \nYou can always be a voyeur in my world right here on DIGITAL STREET.  It’s the Baylee Style of onlyfans. I know right.. just full of brains and beauty! Giggles \nUntil our paths collide – work and play safe in this chaotic world \nAlways gonna be A Mess of Gorgeous Chaos – Baylee Shots
URL:https://bayleeshots.best/event/camrose/
CATEGORIES:Alberta,Camrose
ATTACH;FMTTYPE=image/jpeg:https://bayleeshots.best/wp-content/uploads/2022/06/BULY4864-scaled-1.jpg
END:VEVENT
BEGIN:VEVENT
DTSTART;TZID=America/Vancouver:20221214T140000
DTEND;TZID=America/Vancouver:20221214T233000
DTSTAMP:20260420T225512
CREATED:20221119T190050Z
LAST-MODIFIED:20221212T003300Z
UID:6082-1671026400-1671060600@bayleeshots.best
SUMMARY:Airdrie
DESCRIPTION:Baylee Shots – A Mess of Gorgeous Chaos is coming to Airdrie\nOhh myy.. it’s always good that I’m getting it in Airdrie.. giggles – your email that is! \nNow that you’re here\, I’m sure you’ve clicked around and got a feel for this Mess of Gorgeous Chaos – Baylee Shots.  Yep\, that’s right babes\, you gave it to me to help cut down on the fakes in this chaotic world.  Just wanna make sure you’re as real as me  Baylee Shots – A Mess of Gorgeous Chaos. \nOf course\, you can just be a voyeur in my world right here on DIGITAL STREET.  It’s my Baylee Style of fansly.  I know.. I’m truly the Original Baylee Shots – A Mess of Gorgeous Chaos. \nBabes\, I do hope you understand this innovative way of doing things.. I want the same as you.. Just to have Morning Cock & Coffee with a Shot of Baylee \nUntil our paths collide – work and play safe in this chaotic world \nAlways gonna be A Mess of Gorgeous Chaos – Baylee Shots
URL:https://bayleeshots.best/event/airdrie/
CATEGORIES:Airdrie,Alberta
ATTACH;FMTTYPE=image/jpeg:https://bayleeshots.best/wp-content/uploads/2022/06/MG_6315-scaled.jpg
END:VEVENT
BEGIN:VEVENT
DTSTART;TZID=America/Vancouver:20221204T130000
DTEND;TZID=America/Vancouver:20221204T233000
DTSTAMP:20260420T225512
CREATED:20221119T195212Z
LAST-MODIFIED:20221126T155405Z
UID:6089-1670158800-1670196600@bayleeshots.best
SUMMARY:Fox Creek
DESCRIPTION:There’s A Mess of Gorgeous Chaos in Fox Creek\nHeys babes.. thanks for giving it to me.. you know giggles.. your email that is! \nNow that you’re here\, I’m sure you’ve seen I require a 25% deposit for first time cumers!  I know babes.. it’s just making less of A Mess of Gorgeous Chaos.  You know I’m real.. just like you \nYou can always be a voyeur in my world right here at DIGITAL STREET  It’s the Baylee Style of Fansly.  I know right! \nUntil our paths collide – work and play safe in this chaotic world \nAlways gonna be A Mess of Gorgeous Chaos – Baylee Shots
URL:https://bayleeshots.best/event/fox-creek-2/
CATEGORIES:Alberta,fox creek
ATTACH;FMTTYPE=image/jpeg:https://bayleeshots.best/wp-content/uploads/2022/11/MG_6288-scaled-1-683x1024-1.jpeg
END:VEVENT
BEGIN:VEVENT
DTSTART;TZID=America/Vancouver:20221116T150000
DTEND;TZID=America/Vancouver:20221116T233000
DTSTAMP:20260420T225512
CREATED:20220711T213433Z
LAST-MODIFIED:20221107T020958Z
UID:5119-1668610800-1668641400@bayleeshots.best
SUMMARY:Fox Creek
DESCRIPTION:Hey Babes.. That’s right!  You did see that I’ll be coming to Fox Creek.  Giggles – it’s been a while since I’ve landed there.  I’m sure there is new fellas that I’ll be  with as well as my genuine gents form the past. \nJust so you know\, I require a 25% deposit for first time encounters.  And you put be at least 30 years of age to see this Mess of Gorgeous Chaos \nListed below is a direct link to my esculent list.  But just in case you miss it below.. its RIGHT HERE \nUntil our paths collide – work and play safe in this chaotic world \nBaylee Shots \n 
URL:https://bayleeshots.best/event/fox-creek/
CATEGORIES:Alberta,fox creek
ATTACH;FMTTYPE=image/jpeg:https://bayleeshots.best/wp-content/uploads/2022/06/cropped-BULY4607-scaled-1.jpg
END:VEVENT
BEGIN:VEVENT
DTSTART;TZID=America/Vancouver:20221007T080000
DTEND;TZID=America/Vancouver:20221007T230000
DTSTAMP:20260420T225512
CREATED:20220625T024047Z
LAST-MODIFIED:20221005T002038Z
UID:4977-1665129600-1665183600@bayleeshots.best
SUMMARY:In My Princess World
DESCRIPTION:There’s nobody in the world like me.  Giggles – I think every decade has an iconic blonde\, like Marilyn Monroe or Princess Diana and\, right now\, I’m that icon… BUT not a blonde.. more like black locks.  Always\, A Mess of Gorgeous Chaos in my Princess World. \nBe back on tour just as soon as  my Princess time is up.. I know babes\, I am resting for you. Giggles \nUntil our paths collide – work and play safe in this chaotic world
URL:https://bayleeshots.best/event/in-my-princess-world/
CATEGORIES:Alberta,Beautiful Crazy
ATTACH;FMTTYPE=image/jpeg:https://bayleeshots.best/wp-content/uploads/2020/12/4-scaled.jpg
END:VEVENT
END:VCALENDAR