BEGIN:VCALENDAR
VERSION:2.0
PRODID:-//Baylee Shots - ECPv6.15.14//NONSGML v1.0//EN
CALSCALE:GREGORIAN
METHOD:PUBLISH
X-WR-CALNAME:Baylee Shots
X-ORIGINAL-URL:https://bayleeshots.best
X-WR-CALDESC:Events for Baylee Shots
REFRESH-INTERVAL;VALUE=DURATION:PT1H
X-Robots-Tag:noindex
X-PUBLISHED-TTL:PT1H
BEGIN:VTIMEZONE
TZID:America/Vancouver
BEGIN:DAYLIGHT
TZOFFSETFROM:-0800
TZOFFSETTO:-0700
TZNAME:PDT
DTSTART:20240310T100000
END:DAYLIGHT
BEGIN:STANDARD
TZOFFSETFROM:-0700
TZOFFSETTO:-0800
TZNAME:PST
DTSTART:20241103T090000
END:STANDARD
BEGIN:DAYLIGHT
TZOFFSETFROM:-0800
TZOFFSETTO:-0700
TZNAME:PDT
DTSTART:20250309T100000
END:DAYLIGHT
BEGIN:STANDARD
TZOFFSETFROM:-0700
TZOFFSETTO:-0800
TZNAME:PST
DTSTART:20251102T090000
END:STANDARD
BEGIN:DAYLIGHT
TZOFFSETFROM:-0800
TZOFFSETTO:-0700
TZNAME:PDT
DTSTART:20260308T100000
END:DAYLIGHT
BEGIN:STANDARD
TZOFFSETFROM:-0700
TZOFFSETTO:-0800
TZNAME:PST
DTSTART:20261101T090000
END:STANDARD
END:VTIMEZONE
BEGIN:VEVENT
DTSTART;TZID=America/Vancouver:20251130T150000
DTEND;TZID=America/Vancouver:20251130T233000
DTSTAMP:20260421T173001
CREATED:20221113T130118Z
LAST-MODIFIED:20251126T140014Z
UID:6027-1764514800-1764545400@bayleeshots.best
SUMMARY:Grande Prairie
DESCRIPTION:Still  in Grande Prairie  – A Mess of Gorgeous Chaos\nNow in Grande Prairie!  A Mess of Gorgeous Chaos – Baylee Shots.  Gents you are Amazing for making it this far into my world.  Thank you babes!  Just saying I require a 25% deposit for first time cumers.  I know babes.. but in this chaotic world\, this is the only way I can make sure you just as real as me!  Giggles \nNo need to worry about discretion cause I’m sure you’re a genuine gent that respects mine just as much as I do yours.  But\, if your still not ok with it all.. you can always use your VANILLA VISA and do it on Digital Street You know.. check me out on line to see the gypsy soul that I am…It’s kinda like ONLYFans or FANSLY… But Baylee Shots style \nOk babes.. I think I type out enough to give it to you.. some extra info that is!  Giggles \nUntil our paths collide\, Make sure to work and play safe in this chaotic world \nAlways\, gonna be A Mess of Gorgeous Chaos \nBaylee Shots
URL:https://bayleeshots.best/event/grande-prairie/
CATEGORIES:Alberta,Grande Prairie
ATTACH;FMTTYPE=image/jpeg:https://bayleeshots.best/wp-content/uploads/2022/06/1-1-scaled-1-e1663889716173.jpg
END:VEVENT
END:VCALENDAR