BEGIN:VCALENDAR
VERSION:2.0
PRODID:-//Baylee Shots - ECPv6.15.14//NONSGML v1.0//EN
CALSCALE:GREGORIAN
METHOD:PUBLISH
X-WR-CALNAME:Baylee Shots
X-ORIGINAL-URL:https://bayleeshots.best
X-WR-CALDESC:Events for Baylee Shots
REFRESH-INTERVAL;VALUE=DURATION:PT1H
X-Robots-Tag:noindex
X-PUBLISHED-TTL:PT1H
BEGIN:VTIMEZONE
TZID:America/Edmonton
BEGIN:DAYLIGHT
TZOFFSETFROM:-0700
TZOFFSETTO:-0600
TZNAME:MDT
DTSTART:20240310T090000
END:DAYLIGHT
BEGIN:STANDARD
TZOFFSETFROM:-0600
TZOFFSETTO:-0700
TZNAME:MST
DTSTART:20241103T080000
END:STANDARD
BEGIN:DAYLIGHT
TZOFFSETFROM:-0700
TZOFFSETTO:-0600
TZNAME:MDT
DTSTART:20250309T090000
END:DAYLIGHT
BEGIN:STANDARD
TZOFFSETFROM:-0600
TZOFFSETTO:-0700
TZNAME:MST
DTSTART:20251102T080000
END:STANDARD
BEGIN:DAYLIGHT
TZOFFSETFROM:-0700
TZOFFSETTO:-0600
TZNAME:MDT
DTSTART:20260308T090000
END:DAYLIGHT
BEGIN:STANDARD
TZOFFSETFROM:-0600
TZOFFSETTO:-0700
TZNAME:MST
DTSTART:20261101T080000
END:STANDARD
END:VTIMEZONE
BEGIN:VEVENT
DTSTART;TZID=America/Edmonton:20251128T150000
DTEND;TZID=America/Edmonton:20251128T233000
DTSTAMP:20260421T173037
CREATED:20220416T074203Z
LAST-MODIFIED:20251126T141045Z
UID:3117-1764342000-1764372600@bayleeshots.best
SUMMARY:Peace River
DESCRIPTION:Peace River – It Starts with a Coffee & Baylee Shots  \nYou just gotta know that tact is the ability to describe others as they see themselves.. Babes just get the facts before you go distorting them – Giggles.  What a chaotic world!   \nJust saying this Mess of Gorgeous Chaos – Baylee Shots is cuming in Peace River.  MMMM – Fact!  ‘Morning Cock & Coffee’  is always good for the soul!   \nMore & More Babes!  That’s right!  A 25% deposit is required for first time cumers!  Just making sure you’re as real as I am.  You can always be a voyeur in My World RIGHT HERE for my ONLYFans or FANSLY.  Giggles\, get to know me before you get to know me! \nUntil our paths collide – work and play safe in this chaotic world.   \nAlways gonna be a Mess of Gorgeous Chaos with Baylee Shots
URL:https://bayleeshots.best/event/peace-river/
CATEGORIES:Alberta,Peace River
ATTACH;FMTTYPE=image/jpeg:https://bayleeshots.best/wp-content/uploads/2022/06/BULY4607-scaled-1.jpg
END:VEVENT
END:VCALENDAR